BEGIN:VCALENDAR
VERSION:2.0
PRODID:-//eventon.com NONSGML v1.0//EN
CALSCALE:GREGORIAN
METHOD:PUBLISH
BEGIN:VEVENT
UID:69e89de337c45
DTSTAMP:20260422T100731Z
DTSTART:20241024T070000Z
DTEND:20241025T150000Z
LOCATION:
SUMMARY:BELA AQUA Starterseminar
DESCRIPTION:BELA AQUA Starterseminar\nhttps://team-vuk.at/events/bela-aqua-
 starterseminar-11/
URL:https://team-vuk.at/events/bela-aqua-starterseminar-11/
END:VEVENT
END:VCALENDAR